BEGIN:VCALENDAR
VERSION:2.0
PRODID:-//USARA - Utah Recovers - ECPv6.15.20//NONSGML v1.0//EN
CALSCALE:GREGORIAN
METHOD:PUBLISH
X-ORIGINAL-URL:https://www.utahrecovers.org
X-WR-CALDESC:Events for USARA - Utah Recovers
REFRESH-INTERVAL;VALUE=DURATION:PT1H
X-Robots-Tag:noindex
X-PUBLISHED-TTL:PT1H
BEGIN:VTIMEZONE
TZID:America/Denver
BEGIN:DAYLIGHT
TZOFFSETFROM:-0700
TZOFFSETTO:-0600
TZNAME:MDT
DTSTART:20250309T090000
END:DAYLIGHT
BEGIN:STANDARD
TZOFFSETFROM:-0600
TZOFFSETTO:-0700
TZNAME:MST
DTSTART:20251102T080000
END:STANDARD
BEGIN:DAYLIGHT
TZOFFSETFROM:-0700
TZOFFSETTO:-0600
TZNAME:MDT
DTSTART:20260308T090000
END:DAYLIGHT
BEGIN:STANDARD
TZOFFSETFROM:-0600
TZOFFSETTO:-0700
TZNAME:MST
DTSTART:20261101T080000
END:STANDARD
BEGIN:DAYLIGHT
TZOFFSETFROM:-0700
TZOFFSETTO:-0600
TZNAME:MDT
DTSTART:20270314T090000
END:DAYLIGHT
BEGIN:STANDARD
TZOFFSETFROM:-0600
TZOFFSETTO:-0700
TZNAME:MST
DTSTART:20271107T080000
END:STANDARD
END:VTIMEZONE
BEGIN:VEVENT
DTSTART;TZID=America/Denver:20260522T100000
DTEND;TZID=America/Denver:20260522T110000
DTSTAMP:20260424T094954
CREATED:20260422T134144Z
LAST-MODIFIED:20260424T135253Z
UID:10010834-1779444000-1779447600@www.utahrecovers.org
SUMMARY:Yoga (In person)
DESCRIPTION:
URL:https://www.utahrecovers.org/meeting/yoga-in-person-102/
LOCATION:Utah Support Advocates for Recovery Awareness – USARA – Moab\, 23 S 100 W\, Moab\, UT 84532\, USA\, Moab RCC-1-Group Room (20)
CATEGORIES:Moab Recovery Community Center
END:VEVENT
BEGIN:VEVENT
DTSTART;TZID=America/Denver:20260522T100000
DTEND;TZID=America/Denver:20260522T110000
DTSTAMP:20260424T094954
CREATED:20260422T215314Z
LAST-MODIFIED:20260423T215317Z
UID:10010840-1779444000-1779447600@www.utahrecovers.org
SUMMARY:SMART Recovery (In person)
DESCRIPTION:Self Management and Recovery Training \nContact USARA at (385) 263-1600
URL:https://www.utahrecovers.org/meeting/smart-recovery-in-person-101/
LOCATION:Utah Support Advocates for Recovery Awareness – USARA – Ogden\, 893 24th St\, Ogden\, UT\, United States
CATEGORIES:Ogden Recovery Community Center
GEO:41.222498;-111.956726
X-APPLE-STRUCTURED-LOCATION;VALUE=URI;X-ADDRESS=Utah Support Advocates for Recovery Awareness – USARA – Ogden 893 24th St Ogden UT United States;X-APPLE-RADIUS=500;X-TITLE=893 24th St:geo:-111.956726,41.222498
END:VEVENT
BEGIN:VEVENT
DTSTART;TZID=America/Denver:20260522T110000
DTEND;TZID=America/Denver:20260522T120000
DTSTAMP:20260424T094954
CREATED:20260422T134144Z
LAST-MODIFIED:20260424T135253Z
UID:10010833-1779447600-1779451200@www.utahrecovers.org
SUMMARY:Coffee & Recovery (Hybrid - join online or in person!)
DESCRIPTION:Join with Google Meet: https://meet.google.com/hrb-awdg-zmdOr dial: (US) +1 508-506-1551 PIN: 141472344#More phone numbers: https://tel.meet/hrb-awdg-zmd?pin=1300156360240&hs=7 \nLearn more about Meet at: https://support.google.com/a/users/answer/9282720
URL:https://www.utahrecovers.org/meeting/coffee-recovery-hybrid-join-online-or-in-person-202/
LOCATION:Utah Support Advocates for Recovery Awareness – USARA – Moab\, 23 S 100 W\, Moab\, UT 84532\, USA\, Moab RCC-1-Group Room (20)
CATEGORIES:Moab Recovery Community Center
END:VEVENT
BEGIN:VEVENT
DTSTART;TZID=America/Denver:20260522T120000
DTEND;TZID=America/Denver:20260522T130000
DTSTAMP:20260424T094954
CREATED:20260422T222336Z
LAST-MODIFIED:20260423T222333Z
UID:10010844-1779451200-1779454800@www.utahrecovers.org
SUMMARY:Recovery Dharma (Hybrid - join virtually or in person!)
DESCRIPTION:https://us02web.zoom.us/j/2361179850?pwd=NXhUUDNsUUpWYTNxdkhIOUcwNEhSUT09 \nContacts \n\nSteve Slater\n\nemail: slater.stevej@gmail.com
URL:https://www.utahrecovers.org/meeting/recovery-dharma-hybrid-join-virtually-or-in-person-589/
LOCATION:Utah Support Advocates for Recovery Awareness – USARA\, 180 E 2100 S #100\, Salt Lake City\, UT 84115\, USA\, SLC RCC-1-Suite 100-Suite 100 Group Room (50)
CATEGORIES:Salt Lake Recovery Community Center
END:VEVENT
BEGIN:VEVENT
DTSTART;TZID=America/Denver:20260522T173000
DTEND;TZID=America/Denver:20260522T183000
DTSTAMP:20260424T094954
CREATED:20260422T222349Z
LAST-MODIFIED:20260423T222333Z
UID:10010845-1779471000-1779474600@www.utahrecovers.org
SUMMARY:Psychedelics in Recovery (Hybrid - join virtually or in person!)
DESCRIPTION:https://us06web.zoom.us/j/86332491277?pwd=53DYFwemMM16J1zhZSYaRi8qMlbFHH.1 \nMeeting ID: 863 3249 1277Passcode: 144990
URL:https://www.utahrecovers.org/meeting/psychedelics-in-recovery-hybrid-join-virtually-or-in-person-98/
LOCATION:Utah Support Advocates for Recovery Awareness – USARA\, 180 E 2100 S #100\, Salt Lake City\, UT 84115\, USA\, SLC RCC-2-Suite 205-Suite 205 Conference Room (18)
CATEGORIES:Salt Lake Recovery Community Center
END:VEVENT
BEGIN:VEVENT
DTSTART;TZID=America/Denver:20260522T180000
DTEND;TZID=America/Denver:20260522T190000
DTSTAMP:20260424T094954
CREATED:20260423T182135Z
LAST-MODIFIED:20260423T182135Z
UID:10010849-1779472800-1779476400@www.utahrecovers.org
SUMMARY:Recovery Dharma (In person)
DESCRIPTION:A mindfulness-based addiction recovery community that practices and utilizes Buddhist philosophy as the foundation of the recovery process. \nContact \n\nJustin Ward\n\nphone: (801) 389-2715
URL:https://www.utahrecovers.org/meeting/recovery-dharma-in-person-332/
LOCATION:Utah Support Advocates for Recovery Awareness – USARA – St. George\, 113 E 200 N\, Saint George\, UT\, United States
CATEGORIES:St George Recovery Community Center
GEO:37.111634;-113.581023
X-APPLE-STRUCTURED-LOCATION;VALUE=URI;X-ADDRESS=Utah Support Advocates for Recovery Awareness – USARA – St. George 113 E 200 N Saint George UT United States;X-APPLE-RADIUS=500;X-TITLE=113 E 200 N:geo:-113.581023,37.111634
END:VEVENT
BEGIN:VEVENT
DTSTART;TZID=America/Denver:20260522T183000
DTEND;TZID=America/Denver:20260522T193000
DTSTAMP:20260424T094954
CREATED:20260423T222333Z
LAST-MODIFIED:20260423T222333Z
UID:10010856-1779474600-1779478200@www.utahrecovers.org
SUMMARY:Young People in Recovery (In person)
DESCRIPTION:
URL:https://www.utahrecovers.org/meeting/young-people-in-recovery-in-person-61/
LOCATION:Utah Support Advocates for Recovery Awareness – USARA\, 180 E 2100 S #100\, Salt Lake City\, UT 84115\, USA\, SLC RCC-2-Suite 203-Suite 203 Group Room (40)
CATEGORIES:Salt Lake Recovery Community Center
END:VEVENT
BEGIN:VEVENT
DTSTART;TZID=America/Denver:20260522T190000
DTEND;TZID=America/Denver:20260522T200000
DTSTAMP:20260424T094954
CREATED:20260423T215317Z
LAST-MODIFIED:20260423T215317Z
UID:10010852-1779476400-1779480000@www.utahrecovers.org
SUMMARY:Cocaine Anonymous Friday Night Few (In person)
DESCRIPTION:
URL:https://www.utahrecovers.org/meeting/cocaine-anonymous-friday-night-few-in-person-102/
LOCATION:Utah Support Advocates for Recovery Awareness – USARA – Ogden\, 893 24th St\, Ogden\, UT\, United States
CATEGORIES:Ogden Recovery Community Center
GEO:41.222498;-111.956726
X-APPLE-STRUCTURED-LOCATION;VALUE=URI;X-ADDRESS=Utah Support Advocates for Recovery Awareness – USARA – Ogden 893 24th St Ogden UT United States;X-APPLE-RADIUS=500;X-TITLE=893 24th St:geo:-111.956726,41.222498
END:VEVENT
BEGIN:VEVENT
DTSTART;TZID=America/Denver:20260522T193000
DTEND;TZID=America/Denver:20260522T203000
DTSTAMP:20260424T094954
CREATED:20260423T182136Z
LAST-MODIFIED:20260423T182136Z
UID:10010850-1779478200-1779481800@www.utahrecovers.org
SUMMARY:Men's SA Support Group (In person)
DESCRIPTION:
URL:https://www.utahrecovers.org/meeting/mens-sa-support-group-in-person-25/
LOCATION:Utah Support Advocates for Recovery Awareness – USARA – St. George\, 113 E 200 N #1\, St. George\, UT 84770\, USA\, St George RCC-1-Group Room (30)
CATEGORIES:St George Recovery Community Center
ORGANIZER;CN="c_op1qpals1bsa34coo8bn6s0oao@group.calendar.google.com":MAILTO:c_op1qpals1bsa34coo8bn6s0oao@group.calendar.google.com
END:VEVENT
BEGIN:VEVENT
DTSTART;TZID=America/Denver:20260522T200000
DTEND;TZID=America/Denver:20260522T210000
DTSTAMP:20260424T094954
CREATED:20260423T222334Z
LAST-MODIFIED:20260423T222334Z
UID:10010857-1779480000-1779483600@www.utahrecovers.org
SUMMARY:Leather\, Fetish\, and Kink in Recovery CMA (In person)
DESCRIPTION:Contacts \n\nJames Jordan Greenwell\n\ncell: (435) 901-7678\nemail: greenwelljordan@gmail.com
URL:https://www.utahrecovers.org/meeting/leather-fetish-and-kink-in-recovery-cma-in-person-102/
LOCATION:Utah Support Advocates for Recovery Awareness – USARA\, 180 E 2100 S #100\, Salt Lake City\, UT 84115\, USA\, SLC RCC-2-Suite 203-Suite 203 Group Room (40)
CATEGORIES:Salt Lake Recovery Community Center
END:VEVENT
BEGIN:VEVENT
DTSTART;TZID=America/Denver:20260523T080000
DTEND;TZID=America/Denver:20260523T090000
DTSTAMP:20260424T094954
CREATED:20260423T182136Z
LAST-MODIFIED:20260423T182136Z
UID:10010851-1779523200-1779526800@www.utahrecovers.org
SUMMARY:Al-Anon (In person)
DESCRIPTION:
URL:https://www.utahrecovers.org/meeting/al-anon-in-person-103/
LOCATION:Utah Support Advocates for Recovery Awareness – USARA – St. George\, 113 E 200 N\, Saint George\, UT\, United States
CATEGORIES:St George Recovery Community Center
GEO:37.111634;-113.581023
X-APPLE-STRUCTURED-LOCATION;VALUE=URI;X-ADDRESS=Utah Support Advocates for Recovery Awareness – USARA – St. George 113 E 200 N Saint George UT United States;X-APPLE-RADIUS=500;X-TITLE=113 E 200 N:geo:-113.581023,37.111634
END:VEVENT
BEGIN:VEVENT
DTSTART;TZID=America/Denver:20260523T083000
DTEND;TZID=America/Denver:20260523T093000
DTSTAMP:20260424T094954
CREATED:20260423T222348Z
LAST-MODIFIED:20260423T222348Z
UID:10010858-1779525000-1779528600@www.utahrecovers.org
SUMMARY:Sexaholics Anonymous (Hybrid - join online or in person!)
DESCRIPTION:https://us02web.zoom.us/j/86238197798?pwd=OTA2ZmY5YUVzcURMRllId3JyRVliZz09
URL:https://www.utahrecovers.org/meeting/sexaholics-anonymous-hybrid-join-online-or-in-person-156/
LOCATION:Utah Support Advocates for Recovery Awareness – USARA\, 180 E 2100 S #100\, Salt Lake City\, UT 84115\, USA\, SLC RCC-2-Suite 203-Suite 203 Group Room (40)
CATEGORIES:Salt Lake Recovery Community Center
END:VEVENT
BEGIN:VEVENT
DTSTART;TZID=America/Denver:20260523T090000
DTEND;TZID=America/Denver:20260523T100000
DTSTAMP:20260424T094954
CREATED:20260423T215329Z
LAST-MODIFIED:20260423T215329Z
UID:10010853-1779526800-1779530400@www.utahrecovers.org
SUMMARY:Wellness  in Recovery
DESCRIPTION:
URL:https://www.utahrecovers.org/meeting/wellness-in-recovery-19/
LOCATION:893 24th St\, Ogden\, UT\, United States
CATEGORIES:Ogden Recovery Community Center
GEO:41.221328;-111.957685
END:VEVENT
BEGIN:VEVENT
DTSTART;TZID=America/Denver:20260523T093000
DTEND;TZID=America/Denver:20260523T110000
DTSTAMP:20260424T094954
CREATED:20260423T222348Z
LAST-MODIFIED:20260423T222348Z
UID:10010859-1779528600-1779534000@www.utahrecovers.org
SUMMARY:SMART Recovery (Hybrid - join virtually or in person)
DESCRIPTION:https://smartrecovery.zoom.us/j/932119283 \nContacts \n\nJamiel\n\nemail: jamielk101@gmail.com
URL:https://www.utahrecovers.org/meeting/smart-recovery-hybrid-join-virtually-or-in-person-310/
LOCATION:Utah Support Advocates for Recovery Awareness – USARA\, 180 E 2100 S #100\, Salt Lake City\, UT 84115\, USA\, SLC RCC-1-Suite 100-Suite 100 Group Room (50)
CATEGORIES:Salt Lake Recovery Community Center
END:VEVENT
BEGIN:VEVENT
DTSTART;TZID=America/Denver:20260523T170000
DTEND;TZID=America/Denver:20260523T180000
DTSTAMP:20260424T094954
CREATED:20260423T222348Z
LAST-MODIFIED:20260423T222348Z
UID:10010860-1779555600-1779559200@www.utahrecovers.org
SUMMARY:Recovery Dharma (Hybrid - join virtually or in person!)
DESCRIPTION:https://us02web.zoom.us/j/2361179850?pwd=NXhUUDNsUUpWYTNxdkhIOUcwNEhSUT09
URL:https://www.utahrecovers.org/meeting/recovery-dharma-hybrid-join-virtually-or-in-person-590/
LOCATION:Utah Support Advocates for Recovery Awareness – USARA\, 180 E 2100 S #100\, Salt Lake City\, UT 84115\, USA\, SLC RCC-1-Suite 100-Suite 100 Group Room (50)
CATEGORIES:Salt Lake Recovery Community Center
END:VEVENT
BEGIN:VEVENT
DTSTART;TZID=America/Denver:20260524T140000
DTEND;TZID=America/Denver:20260524T150000
DTSTAMP:20260424T094954
CREATED:20260424T075238Z
LAST-MODIFIED:20260424T075238Z
UID:10010861-1779631200-1779634800@www.utahrecovers.org
SUMMARY:Recovery Dharma (In Person)
DESCRIPTION:
URL:https://www.utahrecovers.org/meeting/recovery-dharma-in-person-333/
LOCATION:184 400 N\, Provo\, UT\, United States
CATEGORIES:Provo Recovery Community Center
GEO:40.235053;-111.695558
END:VEVENT
END:VCALENDAR