BEGIN:VCALENDAR
VERSION:2.0
PRODID:-//USARA - Utah Recovers - ECPv6.15.20//NONSGML v1.0//EN
CALSCALE:GREGORIAN
METHOD:PUBLISH
X-ORIGINAL-URL:https://www.utahrecovers.org
X-WR-CALDESC:Events for USARA - Utah Recovers
REFRESH-INTERVAL;VALUE=DURATION:PT1H
X-Robots-Tag:noindex
X-PUBLISHED-TTL:PT1H
BEGIN:VTIMEZONE
TZID:America/Denver
BEGIN:DAYLIGHT
TZOFFSETFROM:-0700
TZOFFSETTO:-0600
TZNAME:MDT
DTSTART:20250309T090000
END:DAYLIGHT
BEGIN:STANDARD
TZOFFSETFROM:-0600
TZOFFSETTO:-0700
TZNAME:MST
DTSTART:20251102T080000
END:STANDARD
BEGIN:DAYLIGHT
TZOFFSETFROM:-0700
TZOFFSETTO:-0600
TZNAME:MDT
DTSTART:20260308T090000
END:DAYLIGHT
BEGIN:STANDARD
TZOFFSETFROM:-0600
TZOFFSETTO:-0700
TZNAME:MST
DTSTART:20261101T080000
END:STANDARD
BEGIN:DAYLIGHT
TZOFFSETFROM:-0700
TZOFFSETTO:-0600
TZNAME:MDT
DTSTART:20270314T090000
END:DAYLIGHT
BEGIN:STANDARD
TZOFFSETFROM:-0600
TZOFFSETTO:-0700
TZNAME:MST
DTSTART:20271107T080000
END:STANDARD
END:VTIMEZONE
BEGIN:VEVENT
DTSTART;TZID=America/Denver:20260518T180000
DTEND;TZID=America/Denver:20260518T190000
DTSTAMP:20260423T114851
CREATED:20260419T175315Z
LAST-MODIFIED:20260422T182128Z
UID:10010796-1779127200-1779130800@www.utahrecovers.org
SUMMARY:Al-Anon Men's Meeting (In person)
DESCRIPTION:Closed 12 step family support meeting for males. \nContacts \n\nRick Hughes\n\nphone: (815) 546-1798\n\n\nManny\n\nphone: (435) 559-3333
URL:https://www.utahrecovers.org/meeting/al-anon-mens-meeting-in-person-101/
LOCATION:Utah Support Advocates for Recovery Awareness – USARA – St. George\, 113 E 200 N\, Saint George\, UT\, United States
CATEGORIES:St George Recovery Community Center
GEO:37.111634;-113.581023
X-APPLE-STRUCTURED-LOCATION;VALUE=URI;X-ADDRESS=Utah Support Advocates for Recovery Awareness – USARA – St. George 113 E 200 N Saint George UT United States;X-APPLE-RADIUS=500;X-TITLE=113 E 200 N:geo:-113.581023,37.111634
END:VEVENT
BEGIN:VEVENT
DTSTART;TZID=America/Denver:20260518T180000
DTEND;TZID=America/Denver:20260518T190000
DTSTAMP:20260423T114851
CREATED:20260419T215303Z
LAST-MODIFIED:20260422T215313Z
UID:10010799-1779127200-1779130800@www.utahrecovers.org
SUMMARY:Rainbow Recovery (In person)
DESCRIPTION:12 step LGBTQ+ Community Support Meeting
URL:https://www.utahrecovers.org/meeting/rainbow-recovery-in-person-102/
LOCATION:Utah Support Advocates for Recovery Awareness – USARA – Ogden\, 893 24th St\, Ogden\, UT\, United States
CATEGORIES:Ogden Recovery Community Center
GEO:41.222498;-111.956726
X-APPLE-STRUCTURED-LOCATION;VALUE=URI;X-ADDRESS=Utah Support Advocates for Recovery Awareness – USARA – Ogden 893 24th St Ogden UT United States;X-APPLE-RADIUS=500;X-TITLE=893 24th St:geo:-111.956726,41.222498
END:VEVENT
BEGIN:VEVENT
DTSTART;TZID=America/Denver:20260518T180000
DTEND;TZID=America/Denver:20260518T190000
DTSTAMP:20260423T114851
CREATED:20260419T215503Z
LAST-MODIFIED:20260422T222321Z
UID:10010801-1779127200-1779130800@www.utahrecovers.org
SUMMARY:Recovery Dharma (In person)
DESCRIPTION:
URL:https://www.utahrecovers.org/meeting/recovery-dharma-in-person-331/
LOCATION:Utah Support Advocates for Recovery Awareness – USARA\, 180 E 2100 S #100\, Salt Lake City\, UT 84115\, USA\, SLC RCC-1-Suite 100-Suite 100 Group Room (50)
CATEGORIES:Salt Lake Recovery Community Center
END:VEVENT
BEGIN:VEVENT
DTSTART;TZID=America/Denver:20260518T180000
DTEND;TZID=America/Denver:20260518T190000
DTSTAMP:20260423T114851
CREATED:20260419T215504Z
LAST-MODIFIED:20260422T222321Z
UID:10010802-1779127200-1779130800@www.utahrecovers.org
SUMMARY:Hopeful Changes Women's Book Study cont. (In person)
DESCRIPTION:
URL:https://www.utahrecovers.org/meeting/hopeful-changes-womens-book-study-cont-in-person-11/
LOCATION:Utah Support Advocates for Recovery Awareness – USARA\, 180 E 2100 S #100\, Salt Lake City\, UT 84115\, USA\, SLC RCC-2-Suite 205-Suite 205 Conference Room (18)
CATEGORIES:Salt Lake Recovery Community Center
END:VEVENT
BEGIN:VEVENT
DTSTART;TZID=America/Denver:20260518T190000
DTEND;TZID=America/Denver:20260518T200000
DTSTAMP:20260423T114851
CREATED:20260419T215450Z
LAST-MODIFIED:20260422T222321Z
UID:10010800-1779130800-1779134400@www.utahrecovers.org
SUMMARY:SLAA Keys to the Kingdom (Hybrid - join virtually or in person!)
DESCRIPTION:https://us06web.zoom.us/j/85794034807?pwd=URUt6a4WAEshIr7IKpYagkFvD9Aj6b.1
URL:https://www.utahrecovers.org/meeting/slaa-keys-to-the-kingdom-hybrid-join-virtually-or-in-person-162/
LOCATION:Utah Support Advocates for Recovery Awareness – USARA\, 180 E 2100 S #100\, Salt Lake City\, UT 84115\, USA\, SLC RCC-2-Suite 203-Suite 203 Group Room (40)
CATEGORIES:Salt Lake Recovery Community Center
END:VEVENT
BEGIN:VEVENT
DTSTART;TZID=America/Denver:20260518T193000
DTEND;TZID=America/Denver:20260518T203000
DTSTAMP:20260423T114851
CREATED:20260419T175315Z
LAST-MODIFIED:20260422T182128Z
UID:10010797-1779132600-1779136200@www.utahrecovers.org
SUMMARY:Men's SA Support Group (In person)
DESCRIPTION:
URL:https://www.utahrecovers.org/meeting/mens-sa-support-group-in-person-24/
LOCATION:Utah Support Advocates for Recovery Awareness – USARA – St. George\, 113 E 200 N #1\, St. George\, UT 84770\, USA\, St George RCC-1-Group Room (30)
CATEGORIES:St George Recovery Community Center
ORGANIZER;CN="c_op1qpals1bsa34coo8bn6s0oao@group.calendar.google.com":MAILTO:c_op1qpals1bsa34coo8bn6s0oao@group.calendar.google.com
END:VEVENT
BEGIN:VEVENT
DTSTART;TZID=America/Denver:20260519T090000
DTEND;TZID=America/Denver:20260519T100000
DTSTAMP:20260423T114851
CREATED:20260419T094151Z
LAST-MODIFIED:20260423T094151Z
UID:10010795-1779181200-1779184800@www.utahrecovers.org
SUMMARY:Coffee & Recovery (Hybrid - join virtually or in person!)
DESCRIPTION:Join with Google Meet: https://meet.google.com/ydy-xvee-rqtOr dial: (US) +1 478-412-7414 PIN: 189703499#More phone numbers: https://tel.meet/ydy-xvee-rqt?pin=4876928882810&hs=7 \nLearn more about Meet at: https://support.google.com/a/users/answer/9282720
URL:https://www.utahrecovers.org/meeting/coffee-recovery-hybrid-join-virtually-or-in-person-469/
LOCATION:Utah Support Advocates for Recovery Awareness – USARA – Price\, 91 E Main St\, Price\, UT\, United States
CATEGORIES:Price Recovery Community Center
GEO:39.348812;-110.851077
X-APPLE-STRUCTURED-LOCATION;VALUE=URI;X-ADDRESS=Utah Support Advocates for Recovery Awareness – USARA – Price 91 E Main St Price UT United States;X-APPLE-RADIUS=500;X-TITLE=91 E Main St:geo:-110.851077,39.348812
END:VEVENT
BEGIN:VEVENT
DTSTART;TZID=America/Denver:20260519T120000
DTEND;TZID=America/Denver:20260519T130000
DTSTAMP:20260423T114851
CREATED:20260419T175315Z
LAST-MODIFIED:20260422T182128Z
UID:10010798-1779192000-1779195600@www.utahrecovers.org
SUMMARY:Recovery Dharma (In person)
DESCRIPTION:A mindfulness-based addiction recovery community that practices and utilizes Buddhist philosophy as the foundation of the recovery process. \nContact \n\nLana Rose Nelson\n\nphone: (435) 429-9454
URL:https://www.utahrecovers.org/meeting/recovery-dharma-in-person-330/
LOCATION:Utah Support Advocates for Recovery Awareness – USARA – St. George\, 113 E 200 N\, Saint George\, UT\, United States
CATEGORIES:St George Recovery Community Center
GEO:37.111634;-113.581023
X-APPLE-STRUCTURED-LOCATION;VALUE=URI;X-ADDRESS=Utah Support Advocates for Recovery Awareness – USARA – St. George 113 E 200 N Saint George UT United States;X-APPLE-RADIUS=500;X-TITLE=113 E 200 N:geo:-113.581023,37.111634
END:VEVENT
BEGIN:VEVENT
DTSTART;TZID=America/Denver:20260519T170000
DTEND;TZID=America/Denver:20260519T180000
DTSTAMP:20260423T114851
CREATED:20260419T215504Z
LAST-MODIFIED:20260422T222321Z
UID:10010804-1779210000-1779213600@www.utahrecovers.org
SUMMARY:Veterans Support Group (In person)
DESCRIPTION:
URL:https://www.utahrecovers.org/meeting/veterans-support-group-in-person-99/
LOCATION:Utah Support Advocates for Recovery Awareness – USARA\, 180 E 2100 S #100\, Salt Lake City\, UT 84115\, USA\, SLC RCC-1-Suite 100-Suite 100 Group Room (50)
CATEGORIES:Salt Lake Recovery Community Center
END:VEVENT
BEGIN:VEVENT
DTSTART;TZID=America/Denver:20260519T170000
DTEND;TZID=America/Denver:20260519T183000
DTSTAMP:20260423T114851
CREATED:20260419T215504Z
LAST-MODIFIED:20260422T222322Z
UID:10010803-1779210000-1779215400@www.utahrecovers.org
SUMMARY:Community Ear Acudetox Clinic (In person)
DESCRIPTION:
URL:https://www.utahrecovers.org/meeting/community-ear-acudetox-clinic-in-person-100/
LOCATION:Utah Support Advocates for Recovery Awareness – USARA\, 180 E 2100 S #100\, Salt Lake City\, UT 84115\, USA\, SLC RCC-2-Suite 205-Suite 205 Conference Room (18)
CATEGORIES:Salt Lake Recovery Community Center
END:VEVENT
BEGIN:VEVENT
DTSTART;TZID=America/Denver:20260519T180000
DTEND;TZID=America/Denver:20260519T190000
DTSTAMP:20260423T114851
CREATED:20260420T094156Z
LAST-MODIFIED:20260423T094151Z
UID:10010806-1779213600-1779217200@www.utahrecovers.org
SUMMARY:Step Sisters AA Meeting (In person)
DESCRIPTION:Women’s Group
URL:https://www.utahrecovers.org/meeting/step-sisters-aa-meeting-in-person-102/
LOCATION:Utah Support Advocates for Recovery Awareness – USARA – Price\, 91 E Main St\, Price\, UT\, United States
CATEGORIES:Price Recovery Community Center
GEO:39.348812;-110.851077
X-APPLE-STRUCTURED-LOCATION;VALUE=URI;X-ADDRESS=Utah Support Advocates for Recovery Awareness – USARA – Price 91 E Main St Price UT United States;X-APPLE-RADIUS=500;X-TITLE=91 E Main St:geo:-110.851077,39.348812
END:VEVENT
BEGIN:VEVENT
DTSTART;TZID=America/Denver:20260519T180000
DTEND;TZID=America/Denver:20260519T190000
DTSTAMP:20260423T114851
CREATED:20260420T182117Z
LAST-MODIFIED:20260422T182128Z
UID:10010813-1779213600-1779217200@www.utahrecovers.org
SUMMARY:Living the Steps NA (In person)
DESCRIPTION:
URL:https://www.utahrecovers.org/meeting/living-the-steps-na-in-person-102/
LOCATION:Utah Support Advocates for Recovery Awareness – USARA – St. George\, 113 E 200 N\, Saint George\, UT\, United States
CATEGORIES:St George Recovery Community Center
GEO:37.111634;-113.581023
X-APPLE-STRUCTURED-LOCATION;VALUE=URI;X-ADDRESS=Utah Support Advocates for Recovery Awareness – USARA – St. George 113 E 200 N Saint George UT United States;X-APPLE-RADIUS=500;X-TITLE=113 E 200 N:geo:-113.581023,37.111634
END:VEVENT
BEGIN:VEVENT
DTSTART;TZID=America/Denver:20260519T180000
DTEND;TZID=America/Denver:20260519T193000
DTSTAMP:20260423T114851
CREATED:20260420T135239Z
LAST-MODIFIED:20260423T142051Z
UID:10010810-1779213600-1779219000@www.utahrecovers.org
SUMMARY:CRAFT Family Support Group (Virtual)
DESCRIPTION: Register here: https://forms.gle/XVFb2o7W283AaC5B8
URL:https://www.utahrecovers.org/meeting/craft-family-support-group-virtual-252/
LOCATION:UT
CATEGORIES:Virtual Meetings
END:VEVENT
BEGIN:VEVENT
DTSTART;TZID=America/Denver:20260519T180000
DTEND;TZID=America/Denver:20260519T193000
DTSTAMP:20260423T114851
CREATED:20260420T215515Z
LAST-MODIFIED:20260422T222322Z
UID:10010816-1779213600-1779219000@www.utahrecovers.org
SUMMARY:Cirrhosis Support Group (In person)
DESCRIPTION:
URL:https://www.utahrecovers.org/meeting/cirrhosis-support-group-in-person-10/
LOCATION:Utah Support Advocates for Recovery Awareness – USARA\, 180 E 2100 S #100\, Salt Lake City\, UT 84115\, USA\, SLC RCC-2-Suite 203-Suite 203 Group Room (40)
CATEGORIES:Salt Lake Recovery Community Center
END:VEVENT
BEGIN:VEVENT
DTSTART;TZID=America/Denver:20260519T180000
DTEND;TZID=America/Denver:20260519T193000
DTSTAMP:20260423T114851
CREATED:20260420T215515Z
LAST-MODIFIED:20260422T222321Z
UID:10010818-1779213600-1779219000@www.utahrecovers.org
SUMMARY:Hopeful Changes Women's Group (In person)
DESCRIPTION:Contacts \n\nMeg Kisselburg\n\ncell: (801) 652-4840\nemail: megk19@gmail.com
URL:https://www.utahrecovers.org/meeting/hopeful-changes-womens-group-in-person-100/
LOCATION:Utah Support Advocates for Recovery Awareness – USARA\, 180 E 2100 S #100\, Salt Lake City\, UT 84115\, USA\, SLC RCC-1-Suite 100-Suite 100 Group Room (50)
CATEGORIES:Salt Lake Recovery Community Center
END:VEVENT
BEGIN:VEVENT
DTSTART;TZID=America/Denver:20260519T183000
DTEND;TZID=America/Denver:20260519T193000
DTSTAMP:20260423T114851
CREATED:20260420T215312Z
LAST-MODIFIED:20260422T215314Z
UID:10010814-1779215400-1779219000@www.utahrecovers.org
SUMMARY:Crystal Meth Anonymous (In person)
DESCRIPTION:
URL:https://www.utahrecovers.org/meeting/crystal-meth-anonymous-in-person-102/
LOCATION:Utah Support Advocates for Recovery Awareness – USARA – Ogden\, 893 24th St\, Ogden\, UT\, United States
CATEGORIES:Ogden Recovery Community Center
GEO:41.222498;-111.956726
X-APPLE-STRUCTURED-LOCATION;VALUE=URI;X-ADDRESS=Utah Support Advocates for Recovery Awareness – USARA – Ogden 893 24th St Ogden UT United States;X-APPLE-RADIUS=500;X-TITLE=893 24th St:geo:-111.956726,41.222498
END:VEVENT
BEGIN:VEVENT
DTSTART;TZID=America/Denver:20260519T193000
DTEND;TZID=America/Denver:20260519T203000
DTSTAMP:20260423T114851
CREATED:20260420T215515Z
LAST-MODIFIED:20260422T222322Z
UID:10010817-1779219000-1779222600@www.utahrecovers.org
SUMMARY:CaliSober Recovery Meeting (In person)
DESCRIPTION:
URL:https://www.utahrecovers.org/meeting/calisober-recovery-meeting-in-person-57/
LOCATION:Utah Support Advocates for Recovery Awareness – USARA\, 180 E 2100 S #100\, Salt Lake City\, UT 84115\, USA\, SLC RCC-1-Suite 100-Suite 100 Group Room (50)
CATEGORIES:Salt Lake Recovery Community Center
END:VEVENT
BEGIN:VEVENT
DTSTART;TZID=America/Denver:20260520T063000
DTEND;TZID=America/Denver:20260520T073000
DTSTAMP:20260423T114851
CREATED:20260420T135239Z
LAST-MODIFIED:20260423T142051Z
UID:10010811-1779258600-1779262200@www.utahrecovers.org
SUMMARY:MAT Recovery Support Group (Virtual)
DESCRIPTION:
URL:https://www.utahrecovers.org/meeting/mat-recovery-support-group-virtual-102/
LOCATION:https://us02web.zoom.us/j/81392387071?pwd=VkVkQ21GUXB6NEpsbTNmT3c4cytVZz09
CATEGORIES:Virtual Meetings
END:VEVENT
BEGIN:VEVENT
DTSTART;TZID=America/Denver:20260520T093000
DTEND;TZID=America/Denver:20260520T103000
DTSTAMP:20260423T114851
CREATED:20260420T134141Z
LAST-MODIFIED:20260423T134152Z
UID:10010808-1779269400-1779273000@www.utahrecovers.org
SUMMARY:Empowerment Exchange Book club (Hybrid - join online or in person)
DESCRIPTION:Join with Google Meet: https://meet.google.com/gku-iniz-fggOr dial: (US) +1 252-656-5357 PIN: 235894205#More phone numbers: https://tel.meet/gku-iniz-fgg?pin=5721326304142&hs=7 \nLearn more about Meet at: https://support.google.com/a/users/answer/9282720
URL:https://www.utahrecovers.org/meeting/empowerment-exchange-book-club-hybrid-join-online-or-in-person-99/
LOCATION:Utah Support Advocates for Recovery Awareness – USARA – Moab\, 23 S 100 W\, Moab\, UT 84532\, USA\, Moab RCC-1-Group Room (20)
CATEGORIES:Moab Recovery Community Center
END:VEVENT
BEGIN:VEVENT
DTSTART;TZID=America/Denver:20260520T093000
DTEND;TZID=America/Denver:20260520T103000
DTSTAMP:20260423T114851
CREATED:20260420T215323Z
LAST-MODIFIED:20260422T215314Z
UID:10010815-1779269400-1779273000@www.utahrecovers.org
SUMMARY:Coffee & Recovery - Ogden (Hybrid - join virtually or in person!)
DESCRIPTION:Join Zoom Meetinghttps://us02web.zoom.us/j/84527707707?pwd=pnsLRCwODPuOrO4Q3UnBjhYj64BvD2.1 (ID: 84527707707\, passcode: 642553) \nJoin by phone(US) +1 564-217-2000 (passcode: 642553) \nJoining instructions: https://www.google.com/url?q=https://applications.zoom.us/addon/invitation/detail?meetingUuid%3D8hALuLkfSs6VDECA569gnw%253D%253D%26signature%3D7b5ca8bc518361ef1ef93b4945bc4e702133503300216e7889ecc5c342f75ba0%26v%3D1&sa=D&source=calendar&usg=AOvVaw1HemuJZ5yvZTZ721h85OAP \nMeeting host: patrick.cox@myusara.com \nJoin Zoom Meeting: https://us02web.zoom.us/j/84527707707?pwd=pnsLRCwODPuOrO4Q3UnBjhYj64BvD2.1
URL:https://www.utahrecovers.org/meeting/coffee-recovery-ogden-hybrid-join-virtually-or-in-person-128/
LOCATION:UT
CATEGORIES:Ogden Recovery Community Center
END:VEVENT
BEGIN:VEVENT
DTSTART;TZID=America/Denver:20260520T120000
DTEND;TZID=America/Denver:20260520T130000
DTSTAMP:20260423T114851
CREATED:20260420T074123Z
LAST-MODIFIED:20260423T075233Z
UID:10010805-1779278400-1779282000@www.utahrecovers.org
SUMMARY:Coffee and Recovery VIRTUAL
DESCRIPTION:Join with Google Meet: https://meet.google.com/gyf-tmsb-ikgOr dial: (US) +1 252-656-5154 PIN: 988388252#More phone numbers: https://tel.meet/gyf-tmsb-ikg?pin=7570382882570&hs=7 \nLearn more about Meet at: https://support.google.com/a/users/answer/9282720
URL:https://www.utahrecovers.org/meeting/coffee-and-recovery-virtual-59/
LOCATION:184 N 400 W St\, Provo\, UT\, United States
CATEGORIES:Provo Recovery Community Center
GEO:40.235053;-111.695558
END:VEVENT
BEGIN:VEVENT
DTSTART;TZID=America/Denver:20260520T120000
DTEND;TZID=America/Denver:20260520T130000
DTSTAMP:20260423T114851
CREATED:20260420T215515Z
LAST-MODIFIED:20260422T222322Z
UID:10010819-1779278400-1779282000@www.utahrecovers.org
SUMMARY:Recovery Dharma (Hybrid - join virtually or in person!)
DESCRIPTION:https://us02web.zoom.us/j/2361179850?pwd=NXhUUDNsUUpWYTNxdkhIOUcwNEhSUT09 \nContacts \n\nSteve Slater\n\nemail: slater.stevej@gmail.com
URL:https://www.utahrecovers.org/meeting/recovery-dharma-hybrid-join-virtually-or-in-person-588/
LOCATION:Utah Support Advocates for Recovery Awareness – USARA\, 180 E 2100 S #100\, Salt Lake City\, UT 84115\, USA\, SLC RCC-1-Suite 100-Suite 100 Group Room (50)
CATEGORIES:Salt Lake Recovery Community Center
END:VEVENT
BEGIN:VEVENT
DTSTART;TZID=America/Denver:20260520T131500
DTEND;TZID=America/Denver:20260520T141500
DTSTAMP:20260423T114851
CREATED:20260420T215516Z
LAST-MODIFIED:20260422T222335Z
UID:10010820-1779282900-1779286500@www.utahrecovers.org
SUMMARY:Domestic Violence Survivors & Victims Support Group (In person)
DESCRIPTION:
URL:https://www.utahrecovers.org/meeting/domestic-violence-survivors-victims-support-group-in-person-4/
LOCATION:Utah Support Advocates for Recovery Awareness – USARA\, 180 E 2100 S #100\, Salt Lake City\, UT 84115\, USA\, SLC RCC-1-Suite 100-Suite 100 Group Room (50)
CATEGORIES:Salt Lake Recovery Community Center
END:VEVENT
BEGIN:VEVENT
DTSTART;TZID=America/Denver:20260520T133000
DTEND;TZID=America/Denver:20260520T150000
DTSTAMP:20260423T114851
CREATED:20260420T135239Z
LAST-MODIFIED:20260423T142051Z
UID:10010812-1779283800-1779289200@www.utahrecovers.org
SUMMARY:SMART Recovery (Virtual)
DESCRIPTION:For more information\, visit: https://meetings.smartrecovery.org/meetings/9018/
URL:https://www.utahrecovers.org/meeting/smart-recovery-virtual-79/
LOCATION:UT
CATEGORIES:Virtual Meetings
END:VEVENT
BEGIN:VEVENT
DTSTART;TZID=America/Denver:20260520T150000
DTEND;TZID=America/Denver:20260520T160000
DTSTAMP:20260423T114851
CREATED:20260420T094156Z
LAST-MODIFIED:20260423T094152Z
UID:10010807-1779289200-1779292800@www.utahrecovers.org
SUMMARY:Men's Meeting (In person)
DESCRIPTION:
URL:https://www.utahrecovers.org/meeting/mens-meeting-in-person-15/
LOCATION:Utah Support Advocates for Recovery Awareness – USARA – Price\, 91 E Main St\, Price\, UT 84501\, USA\, Price RCC-1-Group Room (50)
CATEGORIES:Price Recovery Community Center
END:VEVENT
BEGIN:VEVENT
DTSTART;TZID=America/Denver:20260520T171500
DTEND;TZID=America/Denver:20260520T181500
DTSTAMP:20260423T114851
CREATED:20260420T134141Z
LAST-MODIFIED:20260423T134152Z
UID:10010809-1779297300-1779300900@www.utahrecovers.org
SUMMARY:Yoga (In person @ Wellness Collective)
DESCRIPTION:
URL:https://www.utahrecovers.org/meeting/yoga-in-person-wellness-collective-103/
LOCATION:Wellness Collective\, 76 S 100 W\, Moab\, UT\, United States
CATEGORIES:Moab Recovery Community Center
GEO:38.572151;-109.552761
X-APPLE-STRUCTURED-LOCATION;VALUE=URI;X-ADDRESS=Wellness Collective 76 S 100 W Moab UT United States;X-APPLE-RADIUS=500;X-TITLE=76 S 100 W:geo:-109.552761,38.572151
END:VEVENT
BEGIN:VEVENT
DTSTART;TZID=America/Denver:20260520T180000
DTEND;TZID=America/Denver:20260520T190000
DTSTAMP:20260423T114851
CREATED:20260421T222332Z
LAST-MODIFIED:20260422T222335Z
UID:10010829-1779300000-1779303600@www.utahrecovers.org
SUMMARY:LGBTQ Group (In person)
DESCRIPTION:
URL:https://www.utahrecovers.org/meeting/lgbtq-group-in-person-2/
LOCATION:Utah Support Advocates for Recovery Awareness – USARA\, 180 E 2100 S #100\, Salt Lake City\, UT 84115\, USA\, SLC RCC-2-Suite 205-Suite 205 Conference Room (18)
CATEGORIES:Salt Lake Recovery Community Center
END:VEVENT
BEGIN:VEVENT
DTSTART;TZID=America/Denver:20260520T180000
DTEND;TZID=America/Denver:20260520T193000
DTSTAMP:20260423T114851
CREATED:20260421T215311Z
LAST-MODIFIED:20260422T215314Z
UID:10010824-1779300000-1779305400@www.utahrecovers.org
SUMMARY:CRAFT Family Support (In person)
DESCRIPTION:Contact:Patrick Cox patrick.cox@myusara.com801-745-5578
URL:https://www.utahrecovers.org/meeting/craft-family-support-in-person-213/
LOCATION:Utah Support Advocates for Recovery Awareness – USARA – Ogden\, 893 24th St\, Ogden\, UT\, United States
CATEGORIES:Ogden Recovery Community Center
GEO:41.222498;-111.956726
X-APPLE-STRUCTURED-LOCATION;VALUE=URI;X-ADDRESS=Utah Support Advocates for Recovery Awareness – USARA – Ogden 893 24th St Ogden UT United States;X-APPLE-RADIUS=500;X-TITLE=893 24th St:geo:-111.956726,41.222498
END:VEVENT
BEGIN:VEVENT
DTSTART;TZID=America/Denver:20260520T180000
DTEND;TZID=America/Denver:20260520T193000
DTSTAMP:20260423T114851
CREATED:20260421T222332Z
LAST-MODIFIED:20260422T222335Z
UID:10010828-1779300000-1779305400@www.utahrecovers.org
SUMMARY:CRAFT Family Support (In person)
DESCRIPTION:
URL:https://www.utahrecovers.org/meeting/craft-family-support-in-person-214/
LOCATION:Utah Support Advocates for Recovery Awareness – USARA\, 180 E 2100 S #100\, Salt Lake City\, UT 84115\, USA\, SLC RCC-1-Suite 100-Suite 100 Group Room (50)
CATEGORIES:Salt Lake Recovery Community Center
END:VEVENT
BEGIN:VEVENT
DTSTART;TZID=America/Denver:20260520T180000
DTEND;TZID=America/Denver:20260520T193000
DTSTAMP:20260423T114851
CREATED:20260421T222332Z
LAST-MODIFIED:20260422T222335Z
UID:10010830-1779300000-1779305400@www.utahrecovers.org
SUMMARY:SMART Recovery (Hybrid - join virtually or in person!)
DESCRIPTION:https://meet.google.com/eqj-itap-ibd \nContacts \n\nDeano\n\ncell: (801) 648-5442
URL:https://www.utahrecovers.org/meeting/smart-recovery-hybrid-join-virtually-or-in-person-309/
LOCATION:Utah Support Advocates for Recovery Awareness – USARA\, 180 E 2100 S #100\, Salt Lake City\, UT 84115\, USA\, SLC RCC-2-Suite 203-Suite 203 Group Room (40)
CATEGORIES:Salt Lake Recovery Community Center
END:VEVENT
END:VCALENDAR