BEGIN:VCALENDAR
VERSION:2.0
PRODID:-//USARA - Utah Recovers - ECPv6.15.20//NONSGML v1.0//EN
CALSCALE:GREGORIAN
METHOD:PUBLISH
X-ORIGINAL-URL:https://www.utahrecovers.org
X-WR-CALDESC:Events for USARA - Utah Recovers
REFRESH-INTERVAL;VALUE=DURATION:PT1H
X-Robots-Tag:noindex
X-PUBLISHED-TTL:PT1H
BEGIN:VTIMEZONE
TZID:America/Denver
BEGIN:DAYLIGHT
TZOFFSETFROM:-0700
TZOFFSETTO:-0600
TZNAME:MDT
DTSTART:20250309T090000
END:DAYLIGHT
BEGIN:STANDARD
TZOFFSETFROM:-0600
TZOFFSETTO:-0700
TZNAME:MST
DTSTART:20251102T080000
END:STANDARD
BEGIN:DAYLIGHT
TZOFFSETFROM:-0700
TZOFFSETTO:-0600
TZNAME:MDT
DTSTART:20260308T090000
END:DAYLIGHT
BEGIN:STANDARD
TZOFFSETFROM:-0600
TZOFFSETTO:-0700
TZNAME:MST
DTSTART:20261101T080000
END:STANDARD
BEGIN:DAYLIGHT
TZOFFSETFROM:-0700
TZOFFSETTO:-0600
TZNAME:MDT
DTSTART:20270314T090000
END:DAYLIGHT
BEGIN:STANDARD
TZOFFSETFROM:-0600
TZOFFSETTO:-0700
TZNAME:MST
DTSTART:20271107T080000
END:STANDARD
END:VTIMEZONE
BEGIN:VEVENT
DTSTART;TZID=America/Denver:20260420T160000
DTEND;TZID=America/Denver:20260420T170000
DTSTAMP:20260423T030807
CREATED:20260321T185313Z
LAST-MODIFIED:20260420T215215Z
UID:10010471-1776700800-1776704400@www.utahrecovers.org
SUMMARY:Hope Connection Women's Support Group (In person)
DESCRIPTION:All pathways support group for women
URL:https://www.utahrecovers.org/meeting/hope-connection-womens-support-group-in-person-94/
LOCATION:Utah Support Advocates for Recovery Awareness – USARA – Ogden\, 893 24th St\, Ogden\, UT\, United States
CATEGORIES:Ogden Recovery Community Center
GEO:41.222498;-111.956726
X-APPLE-STRUCTURED-LOCATION;VALUE=URI;X-ADDRESS=Utah Support Advocates for Recovery Awareness – USARA – Ogden 893 24th St Ogden UT United States;X-APPLE-RADIUS=500;X-TITLE=893 24th St:geo:-111.956726,41.222498
END:VEVENT
BEGIN:VEVENT
DTSTART;TZID=America/Denver:20260420T160000
DTEND;TZID=America/Denver:20260420T170000
DTSTAMP:20260423T030807
CREATED:20260324T185301Z
LAST-MODIFIED:20260420T215215Z
UID:10010506-1776700800-1776704400@www.utahrecovers.org
SUMMARY:Accudetox
DESCRIPTION:
URL:https://www.utahrecovers.org/meeting/accudetox-16/
LOCATION:UT
CATEGORIES:Ogden Recovery Community Center
END:VEVENT
BEGIN:VEVENT
DTSTART;TZID=America/Denver:20260420T180000
DTEND;TZID=America/Denver:20260420T190000
DTSTAMP:20260423T030807
CREATED:20260322T185313Z
LAST-MODIFIED:20260420T215215Z
UID:10010483-1776708000-1776711600@www.utahrecovers.org
SUMMARY:Rainbow Recovery (In person)
DESCRIPTION:12 step LGBTQ+ Community Support Meeting
URL:https://www.utahrecovers.org/meeting/rainbow-recovery-in-person-98/
LOCATION:Utah Support Advocates for Recovery Awareness – USARA – Ogden\, 893 24th St\, Ogden\, UT\, United States
CATEGORIES:Ogden Recovery Community Center
GEO:41.222498;-111.956726
X-APPLE-STRUCTURED-LOCATION;VALUE=URI;X-ADDRESS=Utah Support Advocates for Recovery Awareness – USARA – Ogden 893 24th St Ogden UT United States;X-APPLE-RADIUS=500;X-TITLE=893 24th St:geo:-111.956726,41.222498
END:VEVENT
END:VCALENDAR